BEGIN:VCALENDAR
VERSION:2.0
METHOD:PUBLISH
PRODID:-//imacoda.com//SPD-Web-O-Mat//EN
CALSCALE:GREGORIAN
BEGIN:VTIMEZONE
TZID:Europe/Berlin
BEGIN:DAYLIGHT
TZOFFSETFROM:+0100
RRULE:FREQ=YEARLY;BYMONTH=3;BYDAY=-1SU
DTSTART:19810329T020000
TZNAME:MESZ
TZOFFSETTO:+0200
END:DAYLIGHT
BEGIN:STANDARD
TZOFFSETFROM:+0200
RRULE:FREQ=YEARLY;BYMONTH=10;BYDAY=-1SU
DTSTART:19961027T030000
TZNAME:MEZ
TZOFFSETTO:+0100
END:STANDARD
END:VTIMEZONE
BEGIN:VEVENT
UID:20191126T134931Z-00000494896-LULU@www.bayernspd.de
CREATED:20191126T134931Z
LAST-MODIFIED:20200115T175226Z
DTSTAMP:20200115T175226Z
TRANSP:TRANSPARENT
DTSTART;TZID=Europe/Berlin:20200119T110000
DTEND;TZID=Europe/Berlin:20200119T110000
SUMMARY:Neujahrsempfang der Haarer SPD
LOCATION:NEU: Bürgerhaus\, Kirchenplatz 1\, Haar
DESCRIPTION:Termin im Web (SPD Haar):\nhttps://spd-haar.de/termine/?id=4
 94896
END:VEVENT
END:VCALENDAR
